Package: pwOmics Version: 1.24.0 Command: C:\Users\biocbuild\bbs-3.13-bioc\R\bin\R.exe CMD check --force-multiarch --install=check:pwOmics.install-out.txt --library=C:\Users\biocbuild\bbs-3.13-bioc\R\library --no-vignettes --timings pwOmics_1.24.0.tar.gz StartedAt: 2021-10-15 03:54:35 -0400 (Fri, 15 Oct 2021) EndedAt: 2021-10-15 04:03:31 -0400 (Fri, 15 Oct 2021) EllapsedTime: 535.9 seconds RetCode: 0 Status: WARNINGS CheckDir: pwOmics.Rcheck Warnings: 1