Package: pwOmics Version: 1.24.0 Command: chmod a+r pwOmics -R && C:\Users\biocbuild\bbs-3.13-bioc\R\bin\R.exe CMD build --keep-empty-dirs --no-resave-data pwOmics StartedAt: 2021-10-14 17:17:39 -0400 (Thu, 14 Oct 2021) EndedAt: 2021-10-14 17:17:48 -0400 (Thu, 14 Oct 2021) EllapsedTime: 8.4 seconds RetCode: 0 Status: OK PackageFile: pwOmics_1.24.0.tar.gz PackageFileSize: 882.3 KiB