Package: pwOmics Version: 1.24.0 Command: rm -rf pwOmics.buildbin-libdir && mkdir pwOmics.buildbin-libdir && C:\Users\biocbuild\bbs-3.13-bioc\R\bin\R.exe CMD INSTALL --merge-multiarch --build --library=pwOmics.buildbin-libdir pwOmics_1.24.0.tar.gz StartedAt: 2021-10-15 11:09:01 -0400 (Fri, 15 Oct 2021) EndedAt: 2021-10-15 11:10:35 -0400 (Fri, 15 Oct 2021) EllapsedTime: 94.0 seconds RetCode: 0 Status: OK PackageFile: pwOmics_1.24.0.zip PackageFileSize: 1.218 MiB