Package: pwOmics Version: 1.24.0 Command: /home/biocbuild/bbs-3.13-bioc/R/bin/R CMD check --install=check:pwOmics.install-out.txt --library=/home/biocbuild/bbs-3.13-bioc/R/library --no-vignettes --timings pwOmics_1.24.0.tar.gz StartedAt: 2021-10-14 11:09:50 -0400 (Thu, 14 Oct 2021) EndedAt: 2021-10-14 11:14:11 -0400 (Thu, 14 Oct 2021) EllapsedTime: 261.4 seconds RetCode: 0 Status: WARNINGS CheckDir: pwOmics.Rcheck Warnings: 1