Package: pvca Version: 1.32.0 Command: rm -rf pvca.buildbin-libdir && mkdir pvca.buildbin-libdir && C:\Users\biocbuild\bbs-3.13-bioc\R\bin\R.exe CMD INSTALL --merge-multiarch --build --library=pvca.buildbin-libdir pvca_1.32.0.tar.gz StartedAt: 2021-10-15 11:08:35 -0400 (Fri, 15 Oct 2021) EndedAt: 2021-10-15 11:10:01 -0400 (Fri, 15 Oct 2021) EllapsedTime: 86.0 seconds RetCode: 0 Status: OK PackageFile: pvca_1.32.0.zip PackageFileSize: 140.6 KiB