Package: puma Version: 3.34.0 Command: /home/biocbuild/bbs-3.13-bioc/R/bin/R CMD INSTALL puma StartedAt: 2021-10-14 06:13:46 -0400 (Thu, 14 Oct 2021) EndedAt: 2021-10-14 06:14:23 -0400 (Thu, 14 Oct 2021) EllapsedTime: 36.9 seconds RetCode: 0 Status: OK