Package: psichomics Version: 1.18.6 Command: C:\cygwin\bin\curl.exe -O http://155.52.207.165/BBS/3.13/bioc/src/contrib/psichomics_1.18.6.tar.gz && rm -rf psichomics.buildbin-libdir && mkdir psichomics.buildbin-libdir && C:\Users\biocbuild\bbs-3.13-bioc\R\bin\R.exe CMD INSTALL --merge-multiarch --build --library=psichomics.buildbin-libdir psichomics_1.18.6.tar.gz && C:\Users\biocbuild\bbs-3.13-bioc\R\bin\R.exe CMD INSTALL psichomics_1.18.6.zip && rm psichomics_1.18.6.tar.gz psichomics_1.18.6.zip StartedAt: 2021-10-14 11:21:33 -0400 (Thu, 14 Oct 2021) EndedAt: 2021-10-14 11:25:16 -0400 (Thu, 14 Oct 2021) EllapsedTime: 223.1 seconds RetCode: 0 Status: OK