Package: projectR Version: 1.8.0 Command: /home/biocbuild/bbs-3.13-bioc/R/bin/R CMD build --keep-empty-dirs --no-resave-data projectR StartedAt: 2021-10-14 08:03:55 -0400 (Thu, 14 Oct 2021) EndedAt: 2021-10-14 08:04:31 -0400 (Thu, 14 Oct 2021) EllapsedTime: 36.2 seconds RetCode: 0 Status: OK PackageFile: projectR_1.8.0.tar.gz PackageFileSize: 860.2 KiB