Package: profileScoreDist Version: 1.20.0 Command: chmod a+r profileScoreDist -R && C:\Users\biocbuild\bbs-3.13-bioc\R\bin\R.exe CMD build --keep-empty-dirs --no-resave-data profileScoreDist StartedAt: 2021-10-14 17:12:18 -0400 (Thu, 14 Oct 2021) EndedAt: 2021-10-14 17:12:51 -0400 (Thu, 14 Oct 2021) EllapsedTime: 33.2 seconds RetCode: 0 Status: OK PackageFile: profileScoreDist_1.20.0.tar.gz PackageFileSize: 165.2 KiB