Package: profileScoreDist Version: 1.20.0 Command: rm -rf profileScoreDist.buildbin-libdir && mkdir profileScoreDist.buildbin-libdir && C:\Users\biocbuild\bbs-3.13-bioc\R\bin\R.exe CMD INSTALL --merge-multiarch --build --library=profileScoreDist.buildbin-libdir profileScoreDist_1.20.0.tar.gz StartedAt: 2021-10-15 11:05:24 -0400 (Fri, 15 Oct 2021) EndedAt: 2021-10-15 11:06:48 -0400 (Fri, 15 Oct 2021) EllapsedTime: 83.5 seconds RetCode: 0 Status: OK PackageFile: profileScoreDist_1.20.0.zip PackageFileSize: 993 KiB