Package: proFIA Version: 1.18.0 Command: /Library/Frameworks/R.framework/Versions/Current/Resources/bin/R CMD check --install=check:proFIA.install-out.txt --library=/Library/Frameworks/R.framework/Versions/Current/Resources/library --no-vignettes --timings proFIA_1.18.0.tar.gz StartedAt: 2021-10-14 22:33:15 -0400 (Thu, 14 Oct 2021) EndedAt: 2021-10-14 22:41:09 -0400 (Thu, 14 Oct 2021) EllapsedTime: 474.3 seconds RetCode: 0 Status: WARNINGS CheckDir: proFIA.Rcheck Warnings: 1