Package: proDA Version: 1.6.0 Command: chmod a+r proDA -R && C:\Users\biocbuild\bbs-3.13-bioc\R\bin\R.exe CMD build --keep-empty-dirs --no-resave-data proDA StartedAt: 2021-10-14 17:11:42 -0400 (Thu, 14 Oct 2021) EndedAt: 2021-10-14 17:13:27 -0400 (Thu, 14 Oct 2021) EllapsedTime: 105.0 seconds RetCode: 0 Status: OK PackageFile: proDA_1.6.0.tar.gz PackageFileSize: 1.112 MiB