git_url: https://git.bioconductor.org/packages/proBAMr git_branch: RELEASE_3_13 git_last_commit: cf5184b git_last_commit_date: 2021-05-19 12:08:26 -0400 (Wed, 19 May 2021) Package: proBAMr Version: 1.26.0 Maintainer: Xiaojing Wang MaintainerEmail: xiaojing.wang at vanderbilt.edu