Package: preciseTAD Version: 1.2.0 Command: /Library/Frameworks/R.framework/Versions/Current/Resources/bin/R CMD INSTALL preciseTAD StartedAt: 2021-10-14 09:46:26 -0400 (Thu, 14 Oct 2021) EndedAt: 2021-10-14 09:47:16 -0400 (Thu, 14 Oct 2021) EllapsedTime: 49.7 seconds RetCode: 0 Status: OK