Package: pram Version: 1.8.0 Command: chmod a+r pram -R && C:\Users\biocbuild\bbs-3.13-bioc\R\bin\R.exe CMD build --keep-empty-dirs --no-resave-data pram StartedAt: 2021-10-14 17:08:29 -0400 (Thu, 14 Oct 2021) EndedAt: 2021-10-14 17:10:20 -0400 (Thu, 14 Oct 2021) EllapsedTime: 110.5 seconds RetCode: 0 Status: OK PackageFile: pram_1.8.0.tar.gz PackageFileSize: 2.756 MiB