Package: pram Version: 1.8.0 Command: rm -rf pram.buildbin-libdir && mkdir pram.buildbin-libdir && /Users/biocbuild/BBS/utils/build-universal.sh pram_1.8.0.tar.gz /Library/Frameworks/R.framework/Versions/Current/Resources/bin/R pram.buildbin-libdir StartedAt: 2021-10-15 03:31:14 -0400 (Fri, 15 Oct 2021) EndedAt: 2021-10-15 03:32:07 -0400 (Fri, 15 Oct 2021) EllapsedTime: 53.0 seconds RetCode: 0 Status: OK PackageFile: pram_1.8.0.tgz PackageFileSize: 2.57 MiB