Package: powerTCR Version: 1.12.0 Command: /home/biocbuild/bbs-3.13-bioc/R/bin/R CMD check --install=check:powerTCR.install-out.txt --library=/home/biocbuild/bbs-3.13-bioc/R/library --no-vignettes --timings powerTCR_1.12.0.tar.gz StartedAt: 2021-10-14 11:04:16 -0400 (Thu, 14 Oct 2021) EndedAt: 2021-10-14 11:05:43 -0400 (Thu, 14 Oct 2021) EllapsedTime: 87.6 seconds RetCode: 0 Status: WARNINGS CheckDir: powerTCR.Rcheck Warnings: 1