Package: pogos Version: 1.12.2 Command: /home/biocbuild/bbs-3.13-bioc/R/bin/R CMD INSTALL pogos StartedAt: 2021-10-14 06:09:33 -0400 (Thu, 14 Oct 2021) EndedAt: 2021-10-14 06:09:50 -0400 (Thu, 14 Oct 2021) EllapsedTime: 17.1 seconds RetCode: 0 Status: OK