Package: pogos Version: 1.12.2 Command: /home/biocbuild/bbs-3.13-bioc/R/bin/R CMD check --install=check:pogos.install-out.txt --library=/home/biocbuild/bbs-3.13-bioc/R/library --no-vignettes --timings pogos_1.12.2.tar.gz StartedAt: 2021-10-14 11:04:01 -0400 (Thu, 14 Oct 2021) EndedAt: 2021-10-14 11:06:01 -0400 (Thu, 14 Oct 2021) EllapsedTime: 120.4 seconds RetCode: 0 Status: OK CheckDir: pogos.Rcheck Warnings: 0