Package: podkat Version: 1.24.0 Command: /home/biocbuild/bbs-3.13-bioc/R/bin/R CMD build --keep-empty-dirs --no-resave-data podkat StartedAt: 2021-10-14 08:01:29 -0400 (Thu, 14 Oct 2021) EndedAt: 2021-10-14 08:04:08 -0400 (Thu, 14 Oct 2021) EllapsedTime: 159.4 seconds RetCode: 0 Status: OK PackageFile: podkat_1.24.0.tar.gz PackageFileSize: 1014 KiB