Package: podkat Version: 1.24.0 Command: /Library/Frameworks/R.framework/Versions/Current/Resources/bin/R CMD check --install=check:podkat.install-out.txt --library=/Library/Frameworks/R.framework/Versions/Current/Resources/library --no-vignettes --timings podkat_1.24.0.tar.gz StartedAt: 2021-10-14 22:25:20 -0400 (Thu, 14 Oct 2021) EndedAt: 2021-10-14 22:32:06 -0400 (Thu, 14 Oct 2021) EllapsedTime: 405.7 seconds RetCode: 0 Status: OK CheckDir: podkat.Rcheck Warnings: 0