Package: podkat Version: 1.24.0 Command: rm -rf podkat.buildbin-libdir && mkdir podkat.buildbin-libdir && /Users/biocbuild/BBS/utils/build-universal.sh podkat_1.24.0.tar.gz /Library/Frameworks/R.framework/Versions/Current/Resources/bin/R podkat.buildbin-libdir StartedAt: 2021-10-15 03:30:17 -0400 (Fri, 15 Oct 2021) EndedAt: 2021-10-15 03:32:23 -0400 (Fri, 15 Oct 2021) EllapsedTime: 126.6 seconds RetCode: 0 Status: OK PackageFile: podkat_1.24.0.tgz PackageFileSize: 2.242 MiB