Package: plier Version: 1.62.0 Command: rm -rf plier.buildbin-libdir && mkdir plier.buildbin-libdir && /Users/biocbuild/BBS/utils/build-universal.sh plier_1.62.0.tar.gz /Library/Frameworks/R.framework/Versions/Current/Resources/bin/R plier.buildbin-libdir StartedAt: 2021-10-15 03:29:34 -0400 (Fri, 15 Oct 2021) EndedAt: 2021-10-15 03:30:43 -0400 (Fri, 15 Oct 2021) EllapsedTime: 69.2 seconds RetCode: 0 Status: OK PackageFile: plier_1.62.0.tgz PackageFileSize: 43.69 KiB