Package: plethy Version: 1.30.0 Command: rm -rf plethy.buildbin-libdir && mkdir plethy.buildbin-libdir && /Users/biocbuild/BBS/utils/build-universal.sh plethy_1.30.0.tar.gz /Library/Frameworks/R.framework/Versions/Current/Resources/bin/R plethy.buildbin-libdir StartedAt: 2021-10-15 03:29:23 -0400 (Fri, 15 Oct 2021) EndedAt: 2021-10-15 03:30:32 -0400 (Fri, 15 Oct 2021) EllapsedTime: 69.2 seconds RetCode: 0 Status: OK PackageFile: plethy_1.30.0.tgz PackageFileSize: 1.293 MiB