git_url: https://git.bioconductor.org/packages/plethy git_branch: RELEASE_3_13 git_last_commit: fa08dc1 git_last_commit_date: 2021-05-19 11:58:57 -0400 (Wed, 19 May 2021) Package: plethy Version: 1.30.0 Maintainer: Daniel Bottomly MaintainerEmail: bottomly at ohsu.edu