Package: pipeFrame Version: 1.8.0 Command: /home/biocbuild/bbs-3.13-bioc/R/bin/R CMD check --install=check:pipeFrame.install-out.txt --library=/home/biocbuild/bbs-3.13-bioc/R/library --no-vignettes --timings pipeFrame_1.8.0.tar.gz StartedAt: 2021-10-14 11:02:33 -0400 (Thu, 14 Oct 2021) EndedAt: 2021-10-14 11:05:57 -0400 (Thu, 14 Oct 2021) EllapsedTime: 204.4 seconds RetCode: 0 Status: OK CheckDir: pipeFrame.Rcheck Warnings: 0