git_url: https://git.bioconductor.org/packages/pipeFrame git_branch: RELEASE_3_13 git_last_commit: e733729 git_last_commit_date: 2021-05-19 12:43:19 -0400 (Wed, 19 May 2021) Package: pipeFrame Version: 1.8.0 Maintainer: Zheng Wei MaintainerEmail: wzweizheng at qq.com