Package: pickgene Version: 1.64.0 Command: C:\Users\biocbuild\bbs-3.13-bioc\R\bin\R.exe CMD check --force-multiarch --install=check:pickgene.install-out.txt --library=C:\Users\biocbuild\bbs-3.13-bioc\R\library --no-vignettes --timings pickgene_1.64.0.tar.gz StartedAt: 2021-10-15 03:26:11 -0400 (Fri, 15 Oct 2021) EndedAt: 2021-10-15 03:26:49 -0400 (Fri, 15 Oct 2021) EllapsedTime: 37.6 seconds RetCode: 0 Status: WARNINGS CheckDir: pickgene.Rcheck Warnings: 1