Package: pickgene Version: 1.64.0 Command: chmod a+r pickgene -R && C:\Users\biocbuild\bbs-3.13-bioc\R\bin\R.exe CMD build --keep-empty-dirs --no-resave-data pickgene StartedAt: 2021-10-14 16:56:00 -0400 (Thu, 14 Oct 2021) EndedAt: 2021-10-14 16:56:28 -0400 (Thu, 14 Oct 2021) EllapsedTime: 27.7 seconds RetCode: 0 Status: OK PackageFile: pickgene_1.64.0.tar.gz PackageFileSize: 227.8 KiB