Package: pickgene Version: 1.64.0 Command: /home/biocbuild/bbs-3.13-bioc/R/bin/R CMD build --keep-empty-dirs --no-resave-data pickgene StartedAt: 2021-10-14 08:00:15 -0400 (Thu, 14 Oct 2021) EndedAt: 2021-10-14 08:00:21 -0400 (Thu, 14 Oct 2021) EllapsedTime: 5.0 seconds RetCode: 0 Status: OK PackageFile: pickgene_1.64.0.tar.gz PackageFileSize: 226 KiB