Package: pickgene Version: 1.64.0 Command: /Library/Frameworks/R.framework/Versions/Current/Resources/bin/R CMD INSTALL pickgene StartedAt: 2021-10-14 08:16:37 -0400 (Thu, 14 Oct 2021) EndedAt: 2021-10-14 08:17:33 -0400 (Thu, 14 Oct 2021) EllapsedTime: 55.9 seconds RetCode: 0 Status: OK