Package: pickgene Version: 1.64.0 Command: /Library/Frameworks/R.framework/Versions/Current/Resources/bin/R CMD build --keep-empty-dirs --no-resave-data pickgene StartedAt: 2021-10-14 13:55:55 -0400 (Thu, 14 Oct 2021) EndedAt: 2021-10-14 13:56:04 -0400 (Thu, 14 Oct 2021) EllapsedTime: 8.9 seconds RetCode: 0 Status: OK PackageFile: pickgene_1.64.0.tar.gz PackageFileSize: 226.1 KiB