Package: pickgene Version: 1.64.0 Command: rm -rf pickgene.buildbin-libdir && mkdir pickgene.buildbin-libdir && /Users/biocbuild/BBS/utils/build-universal.sh pickgene_1.64.0.tar.gz /Library/Frameworks/R.framework/Versions/Current/Resources/bin/R pickgene.buildbin-libdir StartedAt: 2021-10-15 03:28:41 -0400 (Fri, 15 Oct 2021) EndedAt: 2021-10-15 03:29:50 -0400 (Fri, 15 Oct 2021) EllapsedTime: 69.1 seconds RetCode: 0 Status: OK PackageFile: pickgene_1.64.0.tgz PackageFileSize: 320.5 KiB