Package: phantasus Version: 1.12.0 Command: chmod a+r phantasus -R && C:\Users\biocbuild\bbs-3.13-bioc\R\bin\R.exe CMD build --keep-empty-dirs --no-resave-data phantasus StartedAt: 2021-10-14 16:51:48 -0400 (Thu, 14 Oct 2021) EndedAt: 2021-10-14 16:54:16 -0400 (Thu, 14 Oct 2021) EllapsedTime: 148.4 seconds RetCode: 0 Status: OK PackageFile: phantasus_1.12.0.tar.gz PackageFileSize: 9.208 MiB