Package: phantasus Version: 1.12.0 Command: /home/biocbuild/bbs-3.13-bioc/R/bin/R CMD INSTALL phantasus StartedAt: 2021-10-14 06:21:59 -0400 (Thu, 14 Oct 2021) EndedAt: 2021-10-14 06:22:17 -0400 (Thu, 14 Oct 2021) EllapsedTime: 18.6 seconds RetCode: 0 Status: OK