Package: phantasus Version: 1.12.0 Command: /home/biocbuild/bbs-3.13-bioc/R/bin/R CMD check --install=check:phantasus.install-out.txt --library=/home/biocbuild/bbs-3.13-bioc/R/library --no-vignettes --timings phantasus_1.12.0.tar.gz StartedAt: 2021-10-14 11:00:26 -0400 (Thu, 14 Oct 2021) EndedAt: 2021-10-14 11:05:02 -0400 (Thu, 14 Oct 2021) EllapsedTime: 275.7 seconds RetCode: 0 Status: OK CheckDir: phantasus.Rcheck Warnings: 0