Package: phantasus Version: 1.12.0 Command: /Library/Frameworks/R.framework/Versions/Current/Resources/bin/R CMD check --install=check:phantasus.install-out.txt --library=/Library/Frameworks/R.framework/Versions/Current/Resources/library --no-vignettes --timings phantasus_1.12.0.tar.gz StartedAt: 2021-10-14 22:14:52 -0400 (Thu, 14 Oct 2021) EndedAt: 2021-10-14 22:20:43 -0400 (Thu, 14 Oct 2021) EllapsedTime: 351.0 seconds RetCode: 0 Status: OK CheckDir: phantasus.Rcheck Warnings: 0