git_url: https://git.bioconductor.org/packages/peakPantheR git_branch: RELEASE_3_13 git_last_commit: 3308eac git_last_commit_date: 2021-06-23 16:02:41 -0400 (Wed, 23 Jun 2021) Package: peakPantheR Version: 1.6.1 Maintainer: Arnaud Wolfer MaintainerEmail: adwolfer at gmail.com