Package: pcaMethods Version: 1.84.0 Command: /home/biocbuild/bbs-3.13-bioc/R/bin/R CMD build --keep-empty-dirs --no-resave-data pcaMethods StartedAt: 2021-10-14 07:57:09 -0400 (Thu, 14 Oct 2021) EndedAt: 2021-10-14 07:59:44 -0400 (Thu, 14 Oct 2021) EllapsedTime: 154.9 seconds RetCode: 0 Status: OK PackageFile: pcaMethods_1.84.0.tar.gz PackageFileSize: 728.5 KiB