Package: paxtoolsr Version: 1.26.0 Command: C:\Users\biocbuild\bbs-3.13-bioc\R\bin\R.exe --arch x64 CMD INSTALL --no-multiarch paxtoolsr StartedAt: 2021-10-14 09:52:23 -0400 (Thu, 14 Oct 2021) EndedAt: 2021-10-14 09:53:22 -0400 (Thu, 14 Oct 2021) EllapsedTime: 59.3 seconds RetCode: 0 Status: OK