Package: paxtoolsr Version: 1.26.0 Command: /home/biocbuild/bbs-3.13-bioc/R/bin/R CMD INSTALL paxtoolsr StartedAt: 2021-10-14 06:20:12 -0400 (Thu, 14 Oct 2021) EndedAt: 2021-10-14 06:20:18 -0400 (Thu, 14 Oct 2021) EllapsedTime: 6.1 seconds RetCode: 0 Status: OK