Package: pathwayPCA Version: 1.8.0 Command: rm -rf pathwayPCA.buildbin-libdir && mkdir pathwayPCA.buildbin-libdir && C:\Users\biocbuild\bbs-3.13-bioc\R\bin\R.exe CMD INSTALL --merge-multiarch --build --library=pathwayPCA.buildbin-libdir pathwayPCA_1.8.0.tar.gz StartedAt: 2021-10-15 10:53:50 -0400 (Fri, 15 Oct 2021) EndedAt: 2021-10-15 10:55:03 -0400 (Fri, 15 Oct 2021) EllapsedTime: 73.1 seconds RetCode: 0 Status: OK PackageFile: pathwayPCA_1.8.0.zip PackageFileSize: 2.956 MiB