git_url: https://git.bioconductor.org/packages/pathview git_branch: RELEASE_3_13 git_last_commit: ec7e0e1 git_last_commit_date: 2021-05-19 11:58:02 -0400 (Wed, 19 May 2021) Package: pathview Version: 1.32.0 Maintainer: Weijun Luo MaintainerEmail: luo_weijun at yahoo.com