Package: pathifier Version: 1.30.0 Command: /Library/Frameworks/R.framework/Versions/Current/Resources/bin/R CMD build --keep-empty-dirs --no-resave-data pathifier StartedAt: 2021-10-14 13:47:21 -0400 (Thu, 14 Oct 2021) EndedAt: 2021-10-14 13:47:49 -0400 (Thu, 14 Oct 2021) EllapsedTime: 28.1 seconds RetCode: 0 Status: OK PackageFile: pathifier_1.30.0.tar.gz PackageFileSize: 1.915 MiB