Package: pathRender Version: 1.60.0 Command: /home/biocbuild/bbs-3.13-bioc/R/bin/R CMD check --install=check:pathRender.install-out.txt --library=/home/biocbuild/bbs-3.13-bioc/R/library --no-vignettes --timings pathRender_1.60.0.tar.gz StartedAt: 2021-10-14 10:56:34 -0400 (Thu, 14 Oct 2021) EndedAt: 2021-10-14 10:59:42 -0400 (Thu, 14 Oct 2021) EllapsedTime: 188.5 seconds RetCode: 0 Status: OK CheckDir: pathRender.Rcheck Warnings: 0