Package: parody Version: 1.50.0 Command: /home/biocbuild/bbs-3.13-bioc/R/bin/R CMD INSTALL parody StartedAt: 2021-10-14 06:04:13 -0400 (Thu, 14 Oct 2021) EndedAt: 2021-10-14 06:04:26 -0400 (Thu, 14 Oct 2021) EllapsedTime: 13.5 seconds RetCode: 0 Status: OK