Package: parglms Version: 1.24.1 Command: C:\Users\biocbuild\bbs-3.13-bioc\R\bin\R.exe CMD check --force-multiarch --install=check:parglms.install-out.txt --library=C:\Users\biocbuild\bbs-3.13-bioc\R\library --no-vignettes --timings parglms_1.24.1.tar.gz StartedAt: 2021-10-15 03:09:33 -0400 (Fri, 15 Oct 2021) EndedAt: 2021-10-15 03:11:21 -0400 (Fri, 15 Oct 2021) EllapsedTime: 107.2 seconds RetCode: 0 Status: OK CheckDir: parglms.Rcheck Warnings: 0