Package: parglms Version: 1.24.1 Command: chmod a+r parglms -R && C:\Users\biocbuild\bbs-3.13-bioc\R\bin\R.exe CMD build --keep-empty-dirs --no-resave-data parglms StartedAt: 2021-10-14 16:36:01 -0400 (Thu, 14 Oct 2021) EndedAt: 2021-10-14 16:36:32 -0400 (Thu, 14 Oct 2021) EllapsedTime: 30.9 seconds RetCode: 0 Status: OK PackageFile: parglms_1.24.1.tar.gz PackageFileSize: 266.6 KiB