Package: parglms Version: 1.24.1 Command: rm -rf parglms.buildbin-libdir && mkdir parglms.buildbin-libdir && C:\Users\biocbuild\bbs-3.13-bioc\R\bin\R.exe CMD INSTALL --merge-multiarch --build --library=parglms.buildbin-libdir parglms_1.24.1.tar.gz StartedAt: 2021-10-15 10:52:26 -0400 (Fri, 15 Oct 2021) EndedAt: 2021-10-15 10:53:41 -0400 (Fri, 15 Oct 2021) EllapsedTime: 75.3 seconds RetCode: 0 Status: OK PackageFile: parglms_1.24.1.zip PackageFileSize: 299.2 KiB