Package: parglms Version: 1.24.1 Command: /home/biocbuild/bbs-3.13-bioc/R/bin/R CMD INSTALL parglms StartedAt: 2021-10-14 06:05:57 -0400 (Thu, 14 Oct 2021) EndedAt: 2021-10-14 06:06:07 -0400 (Thu, 14 Oct 2021) EllapsedTime: 10.0 seconds RetCode: 0 Status: OK